BEGIN:VCALENDAR
VERSION:2.0
METHOD:PUBLISH
PRODID:-//Accessible Web Design//My Calendar//http://www.joedolson.com//v//EN';
BEGIN:VEVENT
UID:26-5
LOCATION:Bluhm Park S77W13607 McShane Dr  Muskego Wisconsin 53150
SUMMARY:Muskego vs Legion
DTSTAMP:20240501T173000
ORGANIZER;CN=wpadmin:MAILTO:muskegorugby@gmail.com
DTSTART:20240501T173000
DTEND:20240501T193000
CATEGORIES:General
URL;VALUE=URI:https://muskegorugby.com/mc-events/muskego-vs-legion/?mc_id=26
DESCRIPTION:
END:VEVENT
END:VCALENDAR